BEGIN:VCALENDAR
VERSION:2.0
PRODID:-//hacksw/handcal//NONSGML v1.0//EN
BEGIN:VEVENT
SUMMARY:SEMI MARATHON - FLINES LES RACHES
UID:5241d5a4-bcc1-4743-b0f1-e5ade7e7692e
DTSTART:20260502T220000Z
DTEND:20260503T220000Z
LOCATION:Localisation   
CATEGORIES:Sportif
STATUS:
URL;VALUE=URI:https://comescaudinois.sportsregions.fr/evenements/2026/05/03/semi-marathon-flines-les-raches-2440777
END:VEVENT
END:VCALENDAR
